BEGIN:VCALENDAR
VERSION:2.0
PRODID:-//SVP Solothurn //NONSGML Events //EN
CALSCALE:GREGORIAN
X-WR-CALNAME:SVP Solothurn
BEGIN:VEVENT
CREATED:20260330T114837Z
UID:17011
DTEND:20261030T200000
DTSTART:20261030T190000
DTSTAMP:20260422T062710Z
LOCATION:Kath. Pfarreiheim\, St. Annagasse 2\, 4710 Balsthal
DESCRIPTION:Einlass und Verpflegung: 19:00 Uhr Start Lottomatch: 20:00 Uhr
SUMMARY:SVP Lottomatch
ORGANIZER:
URL;VALUE=URI:https://www.svp-so.ch/aktuell/termine/svp-lottomatch/
TRANSP:OPAQUE
END:VEVENT
END:VCALENDAR
