BEGIN:VCALENDAR
VERSION:2.0
PRODID:-//SVP Solothurn //NONSGML Events //EN
CALSCALE:GREGORIAN
X-WR-CALNAME:SVP Solothurn
BEGIN:VEVENT
CREATED:20260309T112351Z
UID:16999
DTEND:20260424T200000
DTSTART:20260424T193000
DTSTAMP:20260422T062814Z
LOCATION:Hofis Barockbar\, Bifangweg 2\, 4702 Oensingen
DESCRIPTION:
SUMMARY:Generalversammlung der SVP Thal-Gäu
ORGANIZER:
URL;VALUE=URI:https://www.svp-so.ch/aktuell/termine/generalversammlung-der-svp-thal-gaeu/
TRANSP:OPAQUE
END:VEVENT
END:VCALENDAR
