BEGIN:VCALENDAR
VERSION:2.0
PRODID:-//SVP Solothurn //NONSGML Events //EN
CALSCALE:GREGORIAN
X-WR-CALNAME:SVP Solothurn
BEGIN:VEVENT
CREATED:20251114T182507Z
UID:16929
DTEND:20261020T210000
DTSTART:20261020T200000
DTSTAMP:20260422T062408Z
LOCATION:
DESCRIPTION:
SUMMARY:Sitzung der Parteileitung
ORGANIZER:
URL;VALUE=URI:https://www.svp-so.ch/aktuell/termine/sitzung-der-parteileitung-23/
TRANSP:OPAQUE
END:VEVENT
END:VCALENDAR
