BEGIN:VCALENDAR
VERSION:2.0
PRODID:-//SVP Solothurn //NONSGML Events //EN
CALSCALE:GREGORIAN
X-WR-CALNAME:SVP Solothurn
BEGIN:VEVENT
CREATED:20251114T181955Z
UID:16921
DTEND:20260820T210000
DTSTART:20260820T200000
DTSTAMP:20260422T062440Z
LOCATION:
DESCRIPTION:
SUMMARY:Sitzung der Parteileitung
ORGANIZER:
URL;VALUE=URI:https://www.svp-so.ch/aktuell/termine/sitzung-der-parteileitung-22/
TRANSP:OPAQUE
END:VEVENT
END:VCALENDAR
