BEGIN:VCALENDAR
VERSION:2.0
PRODID:-//SVP Solothurn //NONSGML Events //EN
CALSCALE:GREGORIAN
X-WR-CALNAME:SVP Solothurn
BEGIN:VEVENT
CREATED:20241203T115047Z
UID:15550
DTEND:20250124T180000
DTSTART:20250124T170000
DTSTAMP:20260423T041250Z
LOCATION:Kreuzplatz\, Hotel Balsthal
DESCRIPTION:Grosser SVP Anlass mit vielen bekannten Politikern aus der ganzen Schw
SUMMARY:«SVP bi de Lüt» mit der SVP Bundeshausfraktion
ORGANIZER:
URL;VALUE=URI:https://www.svp-so.ch/aktuell/termine/svp-bi-de-luet-mit-der-svp-bundeshausfraktion-in-balsthal/
TRANSP:OPAQUE
END:VEVENT
END:VCALENDAR
