BEGIN:VCALENDAR
VERSION:2.0
PRODID:-//SVP Solothurn //NONSGML Events //EN
CALSCALE:GREGORIAN
X-WR-CALNAME:SVP Solothurn
BEGIN:VEVENT
CREATED:20231029T094717Z
UID:14932
DTEND:20241024T200000
DTSTART:20241024T193000
DTSTAMP:20260422T050811Z
LOCATION:
DESCRIPTION:
SUMMARY:Kantonale Mitgliederversammlung
ORGANIZER:
URL;VALUE=URI:https://www.svp-so.ch/aktuell/termine/kantonale-mitgliederversammlung-6/
TRANSP:OPAQUE
END:VEVENT
END:VCALENDAR
