BEGIN:VCALENDAR
VERSION:2.0
PRODID:-//SVP Solothurn //NONSGML Events //EN
CALSCALE:GREGORIAN
X-WR-CALNAME:SVP Solothurn
BEGIN:VEVENT
CREATED:20231011T125657Z
UID:14656
DTEND:20231027T200000
DTSTART:20231027T190000
DTSTAMP:20260422T085142Z
LOCATION:Pfarreiheim\, St. Annagasse 2\, 4710 Balsthal
DESCRIPTION:19:00 Uhr: Türöffnung 19:15 Uhr: Himmlische Pastetli und Verpflegung
SUMMARY:Lottomatch der SVP Balsthal
ORGANIZER:
URL;VALUE=URI:https://www.svp-so.ch/aktuell/termine/lottomatch-der-svp-balsthal/
TRANSP:OPAQUE
END:VEVENT
END:VCALENDAR
