BEGIN:VCALENDAR
VERSION:2.0
PRODID:-//SVP Solothurn //NONSGML Events //EN
CALSCALE:GREGORIAN
X-WR-CALNAME:SVP Solothurn
BEGIN:VEVENT
CREATED:20221123T172544Z
UID:14009
DTEND:20231022T000000
DTSTART:20231022T000000
DTSTAMP:20260420T144015Z
LOCATION:
DESCRIPTION:
SUMMARY:Eidgenössische Wahlen &#038\; Volksabstimmung vom 22. Oktober 2023
ORGANIZER:
URL;VALUE=URI:https://www.svp-so.ch/aktuell/termine/eidgenoessische-wahlen/
TRANSP:OPAQUE
END:VEVENT
END:VCALENDAR
