BEGIN:VCALENDAR
VERSION:2.0
PRODID:-//SVP Solothurn //NONSGML Events //EN
CALSCALE:GREGORIAN
X-WR-CALNAME:SVP Solothurn
BEGIN:VEVENT
CREATED:20211124T174635Z
UID:13715
DTEND:20221020T200000
DTSTART:20221020T190000
DTSTAMP:20260422T174445Z
LOCATION:
DESCRIPTION:
SUMMARY:Sitzung des Parteipräsidiums
ORGANIZER:
URL;VALUE=URI:https://www.svp-so.ch/aktuell/termine/sitzung-des-parteipraesidiums-8/
TRANSP:OPAQUE
END:VEVENT
END:VCALENDAR
