BEGIN:VCALENDAR
VERSION:2.0
PRODID:-//SVP Solothurn //NONSGML Events //EN
CALSCALE:GREGORIAN
X-WR-CALNAME:SVP Solothurn
BEGIN:VEVENT
CREATED:20201018T205124Z
UID:12789
DTEND:20210102T110000
DTSTART:20210102T103000
DTSTAMP:20260425T172029Z
LOCATION:Online
DESCRIPTION:Live Übertragung Würdigung von Solothurner Persönlichkeiten und ihr
SUMMARY:Berchtoldstag mit Christoph Blocher
ORGANIZER:
URL;VALUE=URI:https://www.svp-so.ch/aktuell/termine/berchtoldstag-mit-christoph-blocher/
TRANSP:OPAQUE
END:VEVENT
END:VCALENDAR
