BEGIN:VCALENDAR
VERSION:2.0
PRODID:-//SVP Solothurn //NONSGML Events //EN
CALSCALE:GREGORIAN
X-WR-CALNAME:SVP Solothurn
BEGIN:VEVENT
CREATED:20200119T180558Z
UID:12440
DTEND:20200423T200000
DTSTART:20200423T190000
DTSTAMP:20260422T172407Z
LOCATION:
DESCRIPTION:
SUMMARY:Sitzung des Parteipräsidiums
ORGANIZER:
URL;VALUE=URI:https://www.svp-so.ch/aktuell/termine/sitzung-des-parteipraesidiums-2/
TRANSP:OPAQUE
END:VEVENT
END:VCALENDAR
